BEGIN:VCALENDAR
VERSION:2.0
PRODID:-//NYC Audit Committee Meetings - ECPv6.0.9//NONSGML v1.0//EN
CALSCALE:GREGORIAN
METHOD:PUBLISH
X-ORIGINAL-URL:https://nycauditcommittee.org
X-WR-CALDESC:Events for NYC Audit Committee Meetings
REFRESH-INTERVAL;VALUE=DURATION:PT1H
X-Robots-Tag:noindex
X-PUBLISHED-TTL:PT1H
BEGIN:VTIMEZONE
TZID:America/Halifax
BEGIN:DAYLIGHT
TZOFFSETFROM:-0400
TZOFFSETTO:-0300
TZNAME:ADT
DTSTART:20240310T060000
END:DAYLIGHT
BEGIN:STANDARD
TZOFFSETFROM:-0300
TZOFFSETTO:-0400
TZNAME:AST
DTSTART:20241103T050000
END:STANDARD
END:VTIMEZONE
BEGIN:VEVENT
DTSTART;TZID=America/Halifax:20241119T093000
DTEND;TZID=America/Halifax:20241119T123000
DTSTAMP:20260425T073131
CREATED:20241030T153958Z
LAST-MODIFIED:20241030T180654Z
UID:843-1732008600-1732019400@nycauditcommittee.org
SUMMARY:November 19\, 2024
DESCRIPTION:Tuesday\, November 19 at 9:30 a.m.
URL:https://nycauditcommittee.org/event/november-19-2024/
CATEGORIES:webcast/public meeting
END:VEVENT
END:VCALENDAR